BEGIN:VCALENDAR
VERSION:2.0
PRODID:-//Wild Cherry School - ECPv5.4.0//NONSGML v1.0//EN
CALSCALE:GREGORIAN
METHOD:PUBLISH
X-WR-CALNAME:Wild Cherry School
X-ORIGINAL-URL:https://wildcherry.vic.edu.au
X-WR-CALDESC:Events for Wild Cherry School
BEGIN:VTIMEZONE
TZID:Australia/Melbourne
BEGIN:STANDARD
TZOFFSETFROM:+1100
TZOFFSETTO:+1000
TZNAME:AEST
DTSTART:20190406T160000
END:STANDARD
BEGIN:DAYLIGHT
TZOFFSETFROM:+1000
TZOFFSETTO:+1100
TZNAME:AEDT
DTSTART:20191005T160000
END:DAYLIGHT
END:VTIMEZONE
BEGIN:VEVENT
DTSTART;TZID=Australia/Melbourne:20190601T110000
DTEND;TZID=Australia/Melbourne:20190601T130000
DTSTAMP:20210226T142916
CREATED:20190528T092300Z
LAST-MODIFIED:20190923T014336Z
UID:961-1559386800-1559394000@wildcherry.vic.edu.au
SUMMARY:Open Day 2019
DESCRIPTION:● Gift your child a love for learning ● \nCome and explore Wild Cherry School. Tour the school\, meet the teachers\, see the children’s work\, hear them perform\, try some art and craft activities\, enjoy a cuppa and cake. \nWhen: Saturday 1 June 2019 from 11am to 1pm\nWhere: Wild Cherry School\, 28 McKean Street\, Bairnsdale\nTours: 11.15am and 12.15pm \nAll welcome. \nEnquiries 03 5152 1966 or admin@wildcherry.vic.edu.au
URL:https://wildcherry.vic.edu.au/event/open-day-2019/
LOCATION:Wild Cherry School\, 28 McKean Street\, Bairnsdale\, Victoria\, 3875\, Australia
CATEGORIES:Open Day
END:VEVENT
END:VCALENDAR